BEGIN:VCALENDAR
VERSION:2.0
PRODID:-//ChurchDev//Events//EN
CALSCALE:GREGORIAN
METHOD:PUBLISH
BEGIN:VEVENT
UID:3918-20260605@www.belfastphc.org
SUMMARY:Izaiah High School Graduation Party- Fellowship Hall
DTSTART:20260605T220000Z
DTEND:20260605T230000Z
DESCRIPTION:https://www.belfastphc.org/events/izaiah-high-school-graduation-party-fellowship-hall-reserved/
LOCATION:3093 US 117 N.\, Goldsboro\, NC 27530
URL:https://www.belfastphc.org/events/izaiah-high-school-graduation-party-fellowship-hall-reserved/
DTSTAMP:20260419T221934Z
END:VEVENT
END:VCALENDAR
