BEGIN:VCALENDAR
VERSION:2.0
PRODID:-//ChurchDev//Events//EN
CALSCALE:GREGORIAN
METHOD:PUBLISH
BEGIN:VEVENT
UID:3941-20260517@www.belfastphc.org
SUMMARY:Homecoming Service- Speaker- Rev. Dale Hathway. Singers- 2nd Chanze. Fellowship meal will  follow service. Everyone welcomed to join us!
DTSTART:20260517T140000Z
DTEND:20260517T150000Z
DESCRIPTION:https://www.belfastphc.org/events/homecoming-service-meal-to-follow-in-the-fellowship-hall/
LOCATION:3093 US 117 N.\, Goldsboro\, NC 27530
URL:https://www.belfastphc.org/events/homecoming-service-meal-to-follow-in-the-fellowship-hall/
DTSTAMP:20260419T221925Z
END:VEVENT
END:VCALENDAR
