BEGIN:VCALENDAR
VERSION:2.0
PRODID:-//ChurchDev//Events//EN
CALSCALE:GREGORIAN
METHOD:PUBLISH
BEGIN:VEVENT
UID:3942-20260502@www.belfastphc.org
SUMMARY:Recovery Celebration &#038\; Vendor Day -3100 Hwy 117N- across the street from Belfast PH Church
DTSTART:20260502T140000Z
DTEND:20260502T200000Z
DESCRIPTION:https://www.belfastphc.org/events/fellowship-hallreserved-xias-1st-birthday-party/
LOCATION:3093 US 117 N.\, Goldsboro\, NC 27530
URL:https://www.belfastphc.org/events/fellowship-hallreserved-xias-1st-birthday-party/
DTSTAMP:20260419T221933Z
END:VEVENT
END:VCALENDAR
