BEGIN:VCALENDAR
VERSION:2.0
PRODID:-//ChurchDev//Events//EN
CALSCALE:GREGORIAN
METHOD:PUBLISH
BEGIN:VEVENT
UID:3943-20260516@www.belfastphc.org
SUMMARY:Fellowship hall reserved for Mia &#038\; Xia&#8217\;s 1 year old birthday party
DTSTART:20260516T180000Z
DTEND:20260516T190000Z
DESCRIPTION:https://www.belfastphc.org/events/fellowship-hall-reserved-for-mia-xias-1-year-old-birthday-party/
LOCATION:3093 US 117 N.\, Goldsboro\, NC 27530
URL:https://www.belfastphc.org/events/fellowship-hall-reserved-for-mia-xias-1-year-old-birthday-party/
DTSTAMP:20260419T221933Z
END:VEVENT
END:VCALENDAR
