BEGIN:VCALENDAR
VERSION:2.0
PRODID:-//ChurchDev//Events//EN
CALSCALE:GREGORIAN
METHOD:PUBLISH
BEGIN:VEVENT
UID:3975-20260421@www.belfastphc.org
SUMMARY:Women&#8217\;s Ministry Meeting
DTSTART:20260421T230000Z
DTEND:20260422T000000Z
DESCRIPTION:https://www.belfastphc.org/events/womens-ministry-meeting-15/
LOCATION:3093 US 117 N.\, Goldsboro\, NC 27530
URL:https://www.belfastphc.org/events/womens-ministry-meeting-15/
DTSTAMP:20260419T221923Z
END:VEVENT
END:VCALENDAR
