BEGIN:VCALENDAR
VERSION:2.0
PRODID:-//ChurchDev//Events//EN
CALSCALE:GREGORIAN
METHOD:PUBLISH
BEGIN:VEVENT
UID:3976-20260511@www.belfastphc.org
SUMMARY:Men&#8217\;s Ministry Meeting
DTSTART:20260511T230000Z
DTEND:20260512T000000Z
DESCRIPTION:https://www.belfastphc.org/events/mens-ministry-meeting-17/
LOCATION:3093 US 117 N.\, Goldsboro\, NC 27530
URL:https://www.belfastphc.org/events/mens-ministry-meeting-17/
DTSTAMP:20260419T221911Z
END:VEVENT
END:VCALENDAR
