BEGIN:VCALENDAR
VERSION:2.0
PRODID:-//ChurchDev//Events//EN
CALSCALE:GREGORIAN
METHOD:PUBLISH
BEGIN:VEVENT
UID:3977-20260515@www.belfastphc.org
SUMMARY:Good Samaritan clothes/food giveaway
DTSTART:20260515T130000Z
DTEND:20260515T170000Z
DESCRIPTION:https://www.belfastphc.org/events/good-samaritan-clothes-food-giveaway-17/
LOCATION:3093 US 117 N.\, Goldsboro\, NC 27530
URL:https://www.belfastphc.org/events/good-samaritan-clothes-food-giveaway-17/
DTSTAMP:20260419T221923Z
END:VEVENT
END:VCALENDAR
